0.2500000000
0.0000000000
0.0000000000
-0.2500000000
444522.3750000000
340602.6250000000
