0.2500000000
0.0000000000
0.0000000000
-0.2500000000
441070.6250000000
338458.6250000000
