0.2500000000
0.0000000000
0.0000000000
-0.2500000000
441160.3750000000
340735.1250000000
