0.2500000000
0.0000000000
0.0000000000
-0.2500000000
437708.3750000000
338591.3750000000
