0.2500000000
0.0000000000
0.0000000000
-0.2500000000
437798.6250000000
340867.8750000000
