0.2500000000
0.0000000000
0.0000000000
-0.2500000000
451334.8750000000
342615.8750000000
