0.2500000000
0.0000000000
0.0000000000
-0.2500000000
451423.6250000000
344892.3750000000
