0.2500000000
0.0000000000
0.0000000000
-0.2500000000
447973.3750000000
342747.3750000000
