0.2500000000
0.0000000000
0.0000000000
-0.2500000000
448062.3750000000
345023.6250000000
