0.2500000000
0.0000000000
0.0000000000
-0.2500000000
444611.8750000000
342879.1250000000
