0.2500000000
0.0000000000
0.0000000000
-0.2500000000
444701.1250000000
345155.6250000000
