0.2500000000
0.0000000000
0.0000000000
-0.2500000000
441250.1250000000
343011.3750000000
