0.2500000000
0.0000000000
0.0000000000
-0.2500000000
441340.1250000000
345287.8750000000
