0.2500000000
0.0000000000
0.0000000000
-0.2500000000
437888.6250000000
343144.3750000000
