0.2500000000
0.0000000000
0.0000000000
-0.2500000000
437978.8750000000
345420.6250000000
