0.2500000000
0.0000000000
0.0000000000
-0.2500000000
451512.3750000000
347168.8750000000
