0.2500000000
0.0000000000
0.0000000000
-0.2500000000
451601.1250000000
349445.3750000000
