0.2500000000
0.0000000000
0.0000000000
-0.2500000000
448151.6250000000
347300.1250000000
