0.2500000000
0.0000000000
0.0000000000
-0.2500000000
448240.6250000000
349576.6250000000
