0.2500000000
0.0000000000
0.0000000000
-0.2500000000
444790.6250000000
347431.8750000000
