0.2500000000
0.0000000000
0.0000000000
-0.2500000000
444880.1250000000
349708.3750000000
