0.2500000000
0.0000000000
0.0000000000
-0.2500000000
441429.8750000000
347564.3750000000
