0.2500000000
0.0000000000
0.0000000000
-0.2500000000
441519.6250000000
349840.6250000000
