0.2500000000
0.0000000000
0.0000000000
-0.2500000000
438069.1250000000
347697.1250000000
