0.2500000000
0.0000000000
0.0000000000
-0.2500000000
438159.1250000000
349973.6250000000
