0.2500000000
0.0000000000
0.0000000000
-0.2500000000
448329.8750000000
351853.1250000000
