0.2500000000
0.0000000000
0.0000000000
-0.2500000000
448418.8750000000
354129.3750000000
