0.2500000000
0.0000000000
0.0000000000
-0.2500000000
444969.6250000000
351984.8750000000
