0.2500000000
0.0000000000
0.0000000000
-0.2500000000
445059.1250000000
354261.1250000000
