0.2500000000
0.0000000000
0.0000000000
-0.2500000000
441609.3750000000
352117.1250000000
