0.2500000000
0.0000000000
0.0000000000
-0.2500000000
441699.3750000000
354393.3750000000
