0.2500000000
0.0000000000
0.0000000000
-0.2500000000
438249.3750000000
352249.8750000000
