0.2500000000
0.0000000000
0.0000000000
-0.2500000000
438339.3750000000
354526.3750000000
