0.2500000000
0.0000000000
0.0000000000
-0.2500000000
445148.6250000000
356537.6250000000
