0.2500000000
0.0000000000
0.0000000000
-0.2500000000
445238.1250000000
358814.1250000000
