0.2500000000
0.0000000000
0.0000000000
-0.2500000000
441789.1250000000
356669.8750000000
