0.2500000000
0.0000000000
0.0000000000
-0.2500000000
441878.8750000000
358946.3750000000
