0.2500000000
0.0000000000
0.0000000000
-0.2500000000
438429.6250000000
356802.6250000000
