0.2500000000
0.0000000000
0.0000000000
-0.2500000000
438519.8750000000
359079.1250000000
