0.2500000000
0.0000000000
0.0000000000
-0.2500000000
469187.6250000000
369284.8750000000
