0.2500000000
0.0000000000
0.0000000000
-0.2500000000
469274.6250000000
371561.3750000000
