0.2500000000
0.0000000000
0.0000000000
-0.2500000000
469361.6250000000
373837.8750000000
