0.2500000000
0.0000000000
0.0000000000
-0.2500000000
469448.6250000000
376114.3750000000
