0.2500000000
0.0000000000
0.0000000000
-0.2500000000
466004.8750000000
373966.6250000000
