0.2500000000
0.0000000000
0.0000000000
-0.2500000000
466092.1250000000
376242.8750000000
