0.2500000000
0.0000000000
0.0000000000
-0.2500000000
469535.6250000000
378390.8750000000
