0.2500000000
0.0000000000
0.0000000000
-0.2500000000
469622.8750000000
380667.3750000000
