0.2500000000
0.0000000000
0.0000000000
-0.2500000000
466179.6250000000
378519.3750000000
