0.2500000000
0.0000000000
0.0000000000
-0.2500000000
466266.8750000000
380795.8750000000
