0.2500000000
0.0000000000
0.0000000000
-0.2500000000
462911.1250000000
380924.8750000000
